BEGIN:VCALENDAR
VERSION:2.0
PRODID:-//wp-events-plugin.com//7.2.3.1//EN
TZID:Europe/Budapest
X-WR-TIMEZONE:Europe/Budapest
BEGIN:VEVENT
UID:26@vstromclub.hu
DTSTART;TZID=Europe/Budapest:20200801T090000
DTEND;TZID=Europe/Budapest:20200801T173000
DTSTAMP:20200730T081132Z
URL:https://vstromclub.hu/events/tajekozodasi-ujratoltve/
SUMMARY:Tájékozódási újratöltve
DESCRIPTION:Szombaton amennyiben akad rá résztvevő\, úgy lemotoroznánk
  az idei tájékozódási útvonalát.\n\nElőreláthatóan csapadékmente
 s\, közepesen meleg időjárás lesz.\n\nA találkozás 8:45-kor\, indul
 ás 9:00-kor az esztergomi OMV kúton lesz.\n\nTALÁLKOZÁSI PONT\n\nEbéd
 elés igény szerint hozott szendvicselés\, vagy pizzázós\, beülős\, 
 de az sajnos csak készpénzzel fizethető.\n\nA táv Esztergomtól Eszter
 gomig kb. 310km.\n\nHa nem lesz jelentkező péntek este 19:00-ig\, akkor
   nem megyek találkozási pontra a megadott időben.\n\n&nbsp\;
CATEGORIES:Esemény
END:VEVENT
BEGIN:VTIMEZONE
TZID:Europe/Budapest
X-LIC-LOCATION:Europe/Budapest
BEGIN:DAYLIGHT
DTSTART:20200329T030000
TZOFFSETFROM:+0100
TZOFFSETTO:+0200
TZNAME:CEST
END:DAYLIGHT
END:VTIMEZONE
END:VCALENDAR