BEGIN:VCALENDAR
VERSION:2.0
PRODID:-//wp-events-plugin.com//7.2.3.1//EN
TZID:Europe/Budapest
X-WR-TIMEZONE:Europe/Budapest
BEGIN:VEVENT
UID:42@vstromclub.hu
DTSTART;TZID=Europe/Budapest:20220528T080000
DTEND;TZID=Europe/Budapest:20220528T170000
DTSTAMP:20220213T152755Z
URL:https://vstromclub.hu/events/tajekozodasi-ujratoltve-szlovenia/
SUMMARY:Tájékozódási újratöltve (Szlovénia)
DESCRIPTION:A 2019-es szlovén tájékozódási túra hosszabb és látván
 yosabb útvonalán motoroznánk végig gps-es navigálással.\nÍgy biztos
 \, hogy jut idő a teljes útvonal bejárására.\n\nA túra időpontja 20
 22.05.28.\nGyülekezés Lenti Spar parkoló : 8:00\nIndulás : 8:30\nA tú
 ra távja : kb. 360km\n\nVárható érkezés : 17 óra körül.\n\nA szál
 lásfoglalás EGYÉNILEG TÖRTÉNIK!!\n\nJavasolt szállás a SILVANUS PA
 NZIÓ Lenti-ben\, ahol a korábbiakhoz hasonlóan az előző este és a v
 isszaérkezés estéjén is egy kicsit "bandázhatnánk". \nBeszéltem a 
 panziósokkal és javasolták\, hogy 1-2 héten belül foglaljon\, aki sze
 retne jönni\, mert beindultak a foglalások.\nA honlapjukon található 
 árak sajnos a tavalyiak\, idén minden pont 1000 Ft-tal lett drágább\, 
 azaz a kétágyas szoba erre az időszakra (2 éjszakás foglalás esetén
 ) 16 ezer Ft/éj\, reggelivel 17 ezer Ft/éj.\n\nTermészetesen\, aki más
 hol szeretne foglalni\, úgy nyugodtan tegye azt.\nEzért (is) szerveztem 
 az indulást más helyszínre\, csak oda kell jönni időben. 
ATTACH;FMTTYPE=image/jpeg:https://vstromclub.hu/wp-content/uploads/2022/02
 /Szloven-kicsi.jpg
CATEGORIES:Esemény
LOCATION:Lenti\, Spar parkoló\, Kisfaludy u. 4.\, Lenti\, 8960\, Magyarors
 zág
GEO:46.624885;16.544687
X-APPLE-STRUCTURED-LOCATION;VALUE=URI;X-ADDRESS=Kisfaludy u. 4.\, Lenti\, 8
 960\, Magyarország;X-APPLE-RADIUS=100;X-TITLE=Lenti\, Spar parkoló:geo:4
 6.624885,16.544687
END:VEVENT
BEGIN:VTIMEZONE
TZID:Europe/Budapest
X-LIC-LOCATION:Europe/Budapest
BEGIN:DAYLIGHT
DTSTART:20220327T030000
TZOFFSETFROM:+0100
TZOFFSETTO:+0200
TZNAME:CEST
END:DAYLIGHT
END:VTIMEZONE
END:VCALENDAR