BEGIN:VCALENDAR
VERSION:2.0
PRODID:-//wp-events-plugin.com//7.2.3.1//EN
TZID:Europe/Budapest
X-WR-TIMEZONE:Europe/Budapest
BEGIN:VEVENT
UID:51@vstromclub.hu
DTSTART;TZID=Europe/Budapest:20230520T080000
DTEND;TZID=Europe/Budapest:20230520T180000
DTSTAMP:20230211T094628Z
URL:https://vstromclub.hu/events/szlovenia-tura-2023-majus-20-tajekozodasi
 -ujratoltve/
SUMMARY:Szlovénia Túra 2023 május 20. (Tájékozódási Újratöltve)
DESCRIPTION:2023-ban ismét megkíséreljük bejárni a 2019-es tájékozó
 dási túra teljes útvonalát gps navigáció segítségével.\nA terveze
 tt bázisszállás változatlanul a Silvanus Panzió lesz Lentiben május 
 19-21 között.\nA 2 ágyas szoba ára: 21 ezer Ft/éj 2 éjszakás foglal
 ás esetén. (azaz 42 ezer a 2 éjszaka) A reggelit az ár tartalmazza.1 
 ágyas foglalásra korlátozottan van lehetőség (akik jelezték: Szikus\
 , Vdog). Nekik 13 ezer Ft/éj 2 éjszakás foglalás esetén\, szintén re
 ggelivel az árban.Fizetni a szálláson kell\, szépkártya\, bankkártya
 \, készpénz a lehetséges fizetőeszköz.\nKérek mindenkit\, aki komoly
 an gondolja az eljövetelét az mielőbb foglaljon EMAILBEN szobát MAG
 ÁNAK közvetlenül a következő címen:spanzio@enternet.huHivatkozni ke
 ll a Suzuki V-Strom Clubra a foglaláskor.\nA jelenlegi tudásom szerint a
  ballagások május elején és június harmadik hétvégéjén lesznek\, 
 így talán nem futunk bele ilyen jellegű problémába.\nA pünkösdi hos
 szú hétvége az ezt követő hétvége lesz. Az Országos V-Strom talál
 kozó pedig három héttel követi a túránkat.\nÚgyhogy lehet időben b
 eütemezni a programot.
ATTACH;FMTTYPE=image/jpeg:https://vstromclub.hu/wp-content/uploads/2022/11
 /Szlovenia-tura-Silvanus-Panzio.jpg
CATEGORIES:Esemény
LOCATION:Lenti\, Silvanus Panzió\, Táncsics u. 14.\, Lenti\, 8960\, Magya
 rország
GEO:46.61886;16.531403
X-APPLE-STRUCTURED-LOCATION;VALUE=URI;X-ADDRESS=Táncsics u. 14.\, Lenti\, 
 8960\, Magyarország;X-APPLE-RADIUS=100;X-TITLE=Lenti\, Silvanus Panzió:g
 eo:46.61886,16.531403
END:VEVENT
BEGIN:VTIMEZONE
TZID:Europe/Budapest
X-LIC-LOCATION:Europe/Budapest
BEGIN:DAYLIGHT
DTSTART:20230326T030000
TZOFFSETFROM:+0100
TZOFFSETTO:+0200
TZNAME:CEST
END:DAYLIGHT
END:VTIMEZONE
END:VCALENDAR