BEGIN:VCALENDAR
VERSION:2.0
PRODID:-//wp-events-plugin.com//7.2.3.1//EN
TZID:Europe/Budapest
X-WR-TIMEZONE:Europe/Budapest
BEGIN:VEVENT
UID:22@vstromclub.hu
DTSTART;TZID=Europe/Budapest:20201003T140000
DTEND;TZID=Europe/Budapest:20201003T160000
DTSTAMP:20200925T183412Z
URL:https://vstromclub.hu/events/rendszeres-vsch-talalkozo-2020-10-03/
SUMMARY:Rendszeres VSCH Találkozó AZ ÉVADZÁRÓ MIATT ELMARAD
DESCRIPTION:Minden hónap első szombatján (áprilistól) 14:00 kezdettel 
 rendszeres találkozót tartunk az Andretti fagyizó és pizzázó előtt.
 \nANDRETTI\nA találkozó célja az ismerkedés\, egymás motorjainak szem
 revételezése\, tapasztalatcsere és baráti beszélgetések.\nA helyszí
 n lehetőséget kínál étel és ital\, valamint fagylalt fogyasztására
 \, ezzel is élvezetesebbé téve a programot.\nAz eseményre regisztráln
 i nem kötelező\, bárkit szívesen látunk\, ha éppen arra jár.\nIgén
 y esetén közösen lehet felgurulni a Citadella Motoros Találkozóra.\nC
 itadella Motoros Találkozó Facebook oldala\nReményeink szerint a "törz
 sgárda" mellett több új márka- és motoros társ is eljön majd és a 
 szezon végeztével is megmarad az igény a rendszeres találkozásokra\, 
 melyet ugyanezen a helyen "törzsasztal" keretében gondolunk megvalósít
 ani.
ATTACH;FMTTYPE=image/jpeg:https://vstromclub.hu/wp-content/uploads/2020/03
 /találka-kicsi-5.jpg
CATEGORIES:Esemény
LOCATION:Andretti pizzéria\, Váci út 13\, Budapest\, 1047\, Magyarorszá
 g
GEO:47.562693;19.078748
X-APPLE-STRUCTURED-LOCATION;VALUE=URI;X-ADDRESS=Váci út 13\, Budapest\, 1
 047\, Magyarország;X-APPLE-RADIUS=100;X-TITLE=Andretti pizzéria:geo:47.5
 62693,19.078748
END:VEVENT
BEGIN:VTIMEZONE
TZID:Europe/Budapest
X-LIC-LOCATION:Europe/Budapest
BEGIN:DAYLIGHT
DTSTART:20200329T030000
TZOFFSETFROM:+0100
TZOFFSETTO:+0200
TZNAME:CEST
END:DAYLIGHT
END:VTIMEZONE
END:VCALENDAR