BEGIN:VCALENDAR
VERSION:2.0
PRODID:-//wp-events-plugin.com//7.2.3.1//EN
TZID:Europe/Budapest
X-WR-TIMEZONE:Europe/Budapest
BEGIN:VEVENT
UID:23@vstromclub.hu
DTSTART;TZID=Europe/Budapest:20200331T230000
DTEND;TZID=Europe/Budapest:20200331T230000
DTSTAMP:20200315T122930Z
URL:https://vstromclub.hu/events/klubos-polo-rendeles/
SUMMARY:Klubos póló rendelés
DESCRIPTION:Kedves feleim! Ismét lehetőség nyílik klubos póló rendel
 ésre. A tavalyihoz hasonló módon\, minőségben történhet a rendelés
 . Tekintettel arra\, hogy a pólók ára a rendelt mennyiségtől függ\, 
 ezért az irányára 4000.- Ft /darab\, mely csökkenhet\, ha megfelelő m
 ennyiségeket megütjük. Póló: Fruit of the Loom Premium\, galléros 
 úgynevezett piké póló. Az elejére bal oldalon\, a VSCH embléma van h
 ímezve\, alatta pedig a nick név. (A Vezetőség döntése értelmében\
 , név nélkül nem lehet rendelni!) A hátán\, szintén hímezve "V-Stro
 m Club Hungary". Méret: S-M-L-XL-XXL - Ha nagyobb kell ezt jelezd külö
 n! Szín:\n\n 	fekete póló\, narancssárga cérnával hímezve\n 	naranc
 ssárga póló\, fekete cérnával hímezve\, csak férfi fazon\n 	fehér 
 póló\, fekete cérnával hímezve\n 	piros póló\, fekete cérnával h
 ímezve (Kizárólag hölgyek részére! De természetesen a másik 3 szí
 nből is választhatnak\, amennyiben olyat szeretnének.)\n\nSzintén a h
 ölgyek részére\, van lehetőség női szabású\, derékban karcsúsít
 ott fazont rendelni. A női és a férfi méretezés nem ugyanaz! Mivel a 
 Fruit of the Loom nem a nagy méreteiről híres\, az "extra nagy növés
 ű" Klubtagok számára (akikre kicsi az XXL-es méret) Gilde típusú pó
 lóból rendelek\, mert az garantáltan megfelelő lesz a legnagyobbakra i
 s. Kérem\, hogy a méret választásnál nagyon körültekintően járjat
 ok el\, mert a helytelen méretválasztásból adódó problémákért rek
 lamációnak nincs helye! Kivéve\, ha az adott méret nem egyezik meg a t
 áblázatban szereplő méretekkel.\n\n\n\nA következő rövid kérdőív
 en add meg milyen pólót\, és hány darabot szeretnél!\n\nHa több fél
 e pólót szeretnél\, akkor többször is kitöltheted\, és elküldhetet
 ed a kérdőívet.\n\nUtána a jelentkézésnél az igényelt pólók öss
 zes darabszámát add meg\, és jelentkezz!\n\n[formidable id=2]
CATEGORIES:Klubos Ereklye
END:VEVENT
BEGIN:VTIMEZONE
TZID:Europe/Budapest
X-LIC-LOCATION:Europe/Budapest
BEGIN:DAYLIGHT
DTSTART:20200329T030000
TZOFFSETFROM:+0100
TZOFFSETTO:+0200
TZNAME:CEST
END:DAYLIGHT
END:VTIMEZONE
END:VCALENDAR