BEGIN:VCALENDAR
VERSION:2.0
PRODID:-//wp-events-plugin.com//7.2.3.1//EN
TZID:Europe/Budapest
X-WR-TIMEZONE:Europe/Budapest
BEGIN:VEVENT
UID:39@vstromclub.hu
DTSTART;TZID=Europe/Budapest:20211106T100000
DTEND;TZID=Europe/Budapest:20211106T160000
DTSTAMP:20210915T202115Z
URL:https://vstromclub.hu/events/klubgyules-2021/
SUMMARY:Klubgyűlés 2021
DESCRIPTION:
CATEGORIES:Esemény
END:VEVENT
BEGIN:VTIMEZONE
TZID:Europe/Budapest
X-LIC-LOCATION:Europe/Budapest
BEGIN:STANDARD
DTSTART:20211031T020000
TZOFFSETFROM:+0200
TZOFFSETTO:+0100
TZNAME:CET
END:STANDARD
END:VTIMEZONE
END:VCALENDAR