BEGIN:VCALENDAR
VERSION:2.0
PRODID:-//wp-events-plugin.com//7.2.3.1//EN
TZID:Europe/Budapest
X-WR-TIMEZONE:Europe/Budapest
BEGIN:VEVENT
UID:24@vstromclub.hu
DTSTART;TZID=Europe/Budapest:20200516T093000
DTEND;TZID=Europe/Budapest:20200516T160000
DTSTAMP:20200515T075211Z
URL:https://vstromclub.hu/events/kezdo-terepes-trening-natival/
SUMMARY:Kezdő terepes tréning Natival
DESCRIPTION:
ATTACH;FMTTYPE=image/jpeg:https://vstromclub.hu/wp-content/uploads/2020/05
 /stromi-terep.jpg
CATEGORIES:Esemény
LOCATION:Veszprém Tesco Shell kút\,  Külső-Kádártai út 3\, Veszprém
 \, 8200\, Magyarország
GEO:47.10429;17.931851
X-APPLE-STRUCTURED-LOCATION;VALUE=URI;X-ADDRESS= Külső-Kádártai út 3\,
  Veszprém\, 8200\, Magyarország;X-APPLE-RADIUS=100;X-TITLE=Veszprém Tes
 co Shell kút:geo:47.10429,17.931851
END:VEVENT
BEGIN:VTIMEZONE
TZID:Europe/Budapest
X-LIC-LOCATION:Europe/Budapest
BEGIN:DAYLIGHT
DTSTART:20200329T030000
TZOFFSETFROM:+0100
TZOFFSETTO:+0200
TZNAME:CEST
END:DAYLIGHT
END:VTIMEZONE
END:VCALENDAR