BEGIN:VCALENDAR
VERSION:2.0
PRODID:-//wp-events-plugin.com//7.2.3.1//EN
TZID:Europe/Budapest
X-WR-TIMEZONE:Europe/Budapest
BEGIN:VEVENT
UID:47@vstromclub.hu
DTSTART;TZID=Europe/Budapest;VALUE=DATE:20220902
DTEND;TZID=Europe/Budapest;VALUE=DATE:20220905
DTSTAMP:20220723T091108Z
URL:https://vstromclub.hu/events/harom-a-magyar-igazsag-csokonyavisonta/
SUMMARY:Három a magyar igazság (Csokonyavisonta)!
DESCRIPTION:Sziasztok! Az elmúlt évekhez hasonlóan az idén is megrendez
 ésre kerül szeptember első hétvégéjén (szeptember 2-3-4) a sátraz
 ós\, vizes találkozó\, amelynek a helyszíne a Csokonyavisonta Thermal 
 Camping (Csokonyavisonta\, Fürdő tér 1\, 7555).  A Camping területén
  lehetőség van sátorozni\, illetve az épületben van 2 szoba\, amelyet
  előzetesen lefoglaltam számunkra. A pontos árakat még nem tudom\, mer
 t a hétvégére ígérték az illetékesek\, de kitalálnak számunkra va
 lami kedvezményes árat. Fizetni nekem kell\, az érkezés napján\, lehe
 tőleg (még józan állapotban) előre kiszámolt összegben. Kértem\, a
  tavalyi évhez hasonlóan asztalt és sör padokat\, illetve egy sör sá
 trat is\, továbbá kértem egy hűtőszekrényt is\, amelyben a jó féle
  házi anyagot tudjuk tárolni (+ a söröcskét). Továbbá jeleztem a f
 ürdő vezetősége felé\, hogy ismételten igényt tartanánk az éjszak
 ai fürdőzésre (korlátlan ideig). Kérdés esetén keress nyugodtan: 30
 /251-9524 Program:\n\n 09. 02-án:\n\n- érkezés\, sátorverés\, örömk
 ödés egymásnak\, majd kölcsönös pálinka kóstolgatás. Ezek után e
 lmegyünk közösen vacsorázni (itt mindenki azt rendel\, amit akar és a
 zt is fizeti). A vacsora után kellő mennyiségű sörrel felpakolva elme
 gyünk fürdeni\, amely az éjszakába nyúló program.\n\n 09. 03-án:\n\
 n- józanodás\, reggeli kávé keresése\, majd reggeli (a Camping mellet
 t van 1 kis bolt\, ahol be lehet szerezni az ennivalót és az innivalót 
 is). Motorozást nem terveztem külön erre a napra\, de aki (kik) úgy go
 ndolják\, azok elmehetnek gurulni egyet (tavaly is voltak jelentkezők\, 
 igaz a Kata sátrát addig felavattuk..). Ebédelni szintén lehet az étt
 eremben\, de a fürdő területén is van étkezési lehetőség (pl. lán
 gos). Tehát egésznapos fürdés\, napozás\, majd vacsora és éjszakáb
 a nyúló sörözés a medencében.\n\n 09. 04-én:\n\n- nem kell sietni h
 aza\, nyugodtan lehet még ejtőzni a medence partján.\nÜdv\,\nAtkusz
ATTACH;FMTTYPE=image/jpeg:https://vstromclub.hu/wp-content/uploads/2022/07
 /visonta640.jpg
CATEGORIES:Esemény
LOCATION:Csokonyoavisonta Camping\, Fürdő tér 1.\, Csokonyavisonta\, bar
 anya\, 7555\, Magyarország
GEO:46.104904;17.436017
X-APPLE-STRUCTURED-LOCATION;VALUE=URI;X-ADDRESS=Fürdő tér 1.\, Csokonyav
 isonta\, baranya\, 7555\, Magyarország;X-APPLE-RADIUS=100;X-TITLE=Csokony
 oavisonta Camping:geo:46.104904,17.436017
END:VEVENT
BEGIN:VTIMEZONE
TZID:Europe/Budapest
X-LIC-LOCATION:Europe/Budapest
BEGIN:DAYLIGHT
DTSTART:20220327T030000
TZOFFSETFROM:+0100
TZOFFSETTO:+0200
TZNAME:CEST
END:DAYLIGHT
END:VTIMEZONE
END:VCALENDAR