BEGIN:VCALENDAR
VERSION:2.0
PRODID:-//wp-events-plugin.com//7.2.3.1//EN
TZID:Europe/Budapest
X-WR-TIMEZONE:Europe/Budapest
BEGIN:VEVENT
UID:48@vstromclub.hu
DTSTART;TZID=Europe/Budapest;VALUE=DATE:20220917
DTEND;TZID=Europe/Budapest;VALUE=DATE:20220918
DTSTAMP:20220816T074748Z
URL:https://vstromclub.hu/events/emlektura/
SUMMARY:Emléktúra!
DESCRIPTION:Sziasztok! Úgy gondoltam\,hogy egy ilyen túrát megszervezni 
 gyerek játák lesz! Hát tévedtem. Több féle varició után ez lett a 
 végleges! A túra találkozási pontja : Kistarcsa OMV benzinkút (Szabad
 ság út 56) A találkozás ideje 09.45 (háromnegyed tíz) A túra tíz 
 órakkor indul! A túra célja: Kékestető motoros emlékhely. Sztem kb 1
 2-13 között fogunk az emlékhelyhez érni\, ahol egy mécses meggyújtun
 k a motoros társaink emlékére. A kékesen van egy Tető nevezetű étte
 rem amit megfelelőnek találtam egy ebéd elfogyasztásához illetve köt
 etlen beszélgetéshez. A túra itt ebéd után véget ér. Aki szeretne E
 ger felé kanyarodva Kékestetőröl egy jót motorozhat\,igen jó volt az
  út minősége amikor ott jártam. Remélem sikerül csatolni a túra út
 vonalát\,illetve pár fotót amit a bejáráskor löttem.  
ATTACH;FMTTYPE=image/jpeg:https://vstromclub.hu/wp-content/uploads/2022/08
 /Emlekt-2-1.jpg
CATEGORIES:Esemény
END:VEVENT
BEGIN:VTIMEZONE
TZID:Europe/Budapest
X-LIC-LOCATION:Europe/Budapest
BEGIN:DAYLIGHT
DTSTART:20220327T030000
TZOFFSETFROM:+0100
TZOFFSETTO:+0200
TZNAME:CEST
END:DAYLIGHT
END:VTIMEZONE
END:VCALENDAR