BEGIN:VCALENDAR
VERSION:2.0
PRODID:-//wp-events-plugin.com//7.2.3.1//EN
TZID:Europe/Budapest
X-WR-TIMEZONE:Europe/Budapest
BEGIN:VEVENT
UID:44@vstromclub.hu
DTSTART;TZID=Europe/Budapest:20220423T100000
DTEND;TZID=Europe/Budapest:20220423T170000
DTSTAMP:20220330T194901Z
URL:https://vstromclub.hu/events/belkg-2022/
SUMMARY:B(el)KG 2022
DESCRIPTION:Tisztelt érdeklődők\, elkészült a 2022-es B(el)KG kiírás
 a:\n\nTalálkozás 2022.04.23. 09:30-tól\, Székesfehérvár\, Mol-kút (
 Balatoni út)\n\nIndulás: 10:00 órakor\n\nAz útvonal: Székesfehérvár
 \, Berhida\, Hajmáskér\, Zirc\, Herend\, Nagyvázsony\, Tapolca\, Kőten
 ger\, Zánka\n\nAz első megálló a zirci Mol-kút\, a második a Kőteng
 er parkolója lenne. Itt megnézzük a parkoló közelében (kb. 150m) tal
 álható látványos alakzatokat.\n\nAmikor itt végzünk\, ismét nyeregb
 e pattanunk és legurulunk Zánkára\, ahol szükség szerint lesz lehető
 ség ebédelni. Ha az időjárás nem szól közbe\, akkor kb. 14:00 óra 
 körül leszünk Zánkán.\n\nA táv Székesfehérvár és Zánka között
 : kb. 150 km.\n\nA részvétel ingyenes\, a zánkai ebédet mindenki maga 
 fizeti. Ennek részletei hamarosan…\n\n&nbsp\;
ATTACH;FMTTYPE=image/jpeg:https://vstromclub.hu/wp-content/uploads/2022/03
 /Belkg-2022.jpg
CATEGORIES:Esemény
LOCATION:MOL-kút\, Székesfehérvár\, Úrhidai út 5.\, Székesfehérvár
 \, 8000\, Fejér megye\, Magyarország
GEO:47.160312;18.40092
X-APPLE-STRUCTURED-LOCATION;VALUE=URI;X-ADDRESS=Úrhidai út 5.\, Székesfe
 hérvár\, 8000\, Fejér megye\, Magyarország;X-APPLE-RADIUS=100;X-TITLE=
 MOL-kút\, Székesfehérvár:geo:47.160312,18.40092
END:VEVENT
BEGIN:VTIMEZONE
TZID:Europe/Budapest
X-LIC-LOCATION:Europe/Budapest
BEGIN:DAYLIGHT
DTSTART:20220327T030000
TZOFFSETFROM:+0100
TZOFFSETTO:+0200
TZNAME:CEST
END:DAYLIGHT
END:VTIMEZONE
END:VCALENDAR