BEGIN:VCALENDAR
VERSION:2.0
PRODID:-//wp-events-plugin.com//7.2.3.1//EN
TZID:Europe/Budapest
X-WR-TIMEZONE:Europe/Budapest
BEGIN:VEVENT
UID:27@vstromclub.hu
DTSTART;TZID=Europe/Budapest:20200802T083000
DTEND;TZID=Europe/Budapest:20200802T193000
DTSTAMP:20200730T082147Z
URL:https://vstromclub.hu/events/aggtelekre-szlovakian-at/
SUMMARY:Aggtelekre Szlovákián át
DESCRIPTION:Vasárnap jó idő esetén (márpedig az lesz\, nem lesz túl m
 eleg arrafelé) megtartanám a korábban elmaradt Aggtelekre Szlovákián 
 át gurulást.\n\nTalálkozás 8:30-kor Balassagyarmaton a Mol kúton\, ma
 jd az alábbi útvonal a terv első része:\n\nÚtvonalterv 1.rész\n\nHa 
 valaki még nem látta az Áji vízesések megszemlélése\,\nkései ebéd
  Aggteleken a büfék egyikében\, (kb. 14:30-kor)\nmajd a Mátrán át ha
 za:\n\nÚtvonalterv 2.rész\n\nHa szombaton 19:00-ig nincs jelentkező\, a
 kkor nem megyek a megadott találkozási pontra.
CATEGORIES:Esemény
END:VEVENT
BEGIN:VTIMEZONE
TZID:Europe/Budapest
X-LIC-LOCATION:Europe/Budapest
BEGIN:DAYLIGHT
DTSTART:20200329T030000
TZOFFSETFROM:+0100
TZOFFSETTO:+0200
TZNAME:CEST
END:DAYLIGHT
END:VTIMEZONE
END:VCALENDAR