BEGIN:VCALENDAR
VERSION:2.0
PRODID:-//wp-events-plugin.com//7.2.3.1//EN
TZID:Europe/Budapest
X-WR-TIMEZONE:Europe/Budapest
BEGIN:VEVENT
UID:33@vstromclub.hu
DTSTART;TZID=Europe/Budapest:20210111T000000
DTEND;TZID=Europe/Budapest:20210125T000000
DTSTAMP:20210111T211413Z
URL:https://vstromclub.hu/events/2021-vsch-naptar-utanrendeles/
SUMMARY:2021 VSCH Naptár utánrendelés
DESCRIPTION:Kedves feleim!\n\nAki lemaradt a 2021-es naptár rendelésérő
 l tavaly decemberben\, annak most jött el az idő!\n\nLehet utánrendelni
 !\n\nKét féle méret van\, A4 és A3. Mindkét méretből lehet rendelni
 !\n\nAz elkészült naptárhoz hozzá lehet jutni személyes átvétel út
 ján - ebben az esetben nem terheli postaköltség - vagy posta/futár út
 ján. FrPeter klubtársunk segítséget nyújt a kézbesítésben\, így a
 kár a motoralkatrész.eu üzletben is átvehető lesz a naptár\, vagy Sz
 abiboy (Budapest)\, Zolee4444 (Dunaújváros)\, Mecsekit (Siófok) lehetne
 k még személyes átvételes pontok. Bármilyen más elosztás is lehets
 éges - ha valaki többekét átveszi\, és vállalja\, hogy elviszi a tö
 bbeknek. Ezeket az eseteket külön meg tudjuk beszélni.\n\nA postai kéz
 besítés esetén lehetőség van címre kérni\, vagy csomagpontra kérni
 . A csomagpontok listája itt megtekinthető.\n\nHa csomagpotra küldenéd
 \, akkor add meg a csomagpont azonosítót és a címet\, melyet a fenti w
 eboldalon tudsz megnézni.\n\nHa sok naptárat kell küldeni - 3-4 db fele
 tt - nőhet a szállítási díj. ha ilyen van azt jelezni fogjuk\, még a
  küldés előtt...\n\nSzeretném kérni\, hogy mindenki gyorsan döntsön
 \, és jelezze igényét\, hogy mielőbb tudjuk gyártani/küldeni a napt
 árakat. A határidő legyen két hét!\n\nFizetni a szokásos számlára 
 lehet. Ha nem tudod a számlaszámot\, akkor írj pü-t\, elküldöm. A k
 özleménybe a Naptár és a Nickneved írd (pl: "Naptár Zolee4444")\n\n 
ATTACH;FMTTYPE=image/jpeg:https://vstromclub.hu/wp-content/uploads/2020/12
 /IMG_20201208_101752-scaled.jpg
CATEGORIES:Esemény
END:VEVENT
BEGIN:VTIMEZONE
TZID:Europe/Budapest
X-LIC-LOCATION:Europe/Budapest
BEGIN:STANDARD
DTSTART:20201025T020000
TZOFFSETFROM:+0200
TZOFFSETTO:+0100
TZNAME:CET
END:STANDARD
END:VTIMEZONE
END:VCALENDAR