BEGIN:VCALENDAR
VERSION:2.0
PRODID:-//wp-events-plugin.com//7.2.3.1//EN
TZID:Europe/Budapest
X-WR-TIMEZONE:Europe/Budapest
BEGIN:VEVENT
UID:31@vstromclub.hu
DTSTART;TZID=Europe/Budapest:20201207T000000
DTEND;TZID=Europe/Budapest:20201214T000000
DTSTAMP:20201208T083558Z
URL:https://vstromclub.hu/events/2021-vsch-naptar-rendeles/
SUMMARY:2021 VSCH Naptár rendelés
DESCRIPTION:Kedves feleim!\n\nElkészült a 2021-es VSCh Naptár!\n\nLehet 
 rendelni!\n\nKét féle méret van\, A4 és A3. Mindkét méretből lehet 
 rendelni!\n\nAz elkészült naptárhoz hozzá lehet jutni személyes átv
 étel útján - ebben az esetben nem terheli postaköltség - vagy posta/f
 utár útján. FrPeter klubtársunk segítséget nyújt a kézbesítésben
 \, így akár a motoralkatrész.eu üzletben is átvehető lesz a naptár\
 , vagy Szabiboy (Budapest)\, Zolee4444 (Dunaújváros)\, Mecsekit (Siófok
 ) lehetnek még személyes átvételes pontok. Bármilyen más elosztás i
 s lehetséges - ha valaki többekét átveszi\, és vállalja\, hogy elvis
 zi a többeknek. Ezeket az eseteket külön meg tudjuk beszélni.\n\nA pos
 tai kézbesítés esetén lehetőség van címre kérni\, vagy csomagpontr
 a kérni. A csomagpontok listája itt megtekinthető.\n\nHa csomagpotra k
 üldenéd\, akkor add meg a csomagpont azonosítót\, melyet a fenti webol
 dalon tudsz megnézni.\n\nHa sok naptárat kell küldeni - 3-4 db felett -
  nőhet a szállítási díj. ha ilyen van azt jelezni fogjuk\, még a kü
 ldés előtt...\n\nSzeretném kérni\, hogy mindenki gyorsan döntsön\, 
 és jelezze igényét\, hogy mielőbb tudjuk gyártani/küldeni a naptára
 kat. A határidő legyen egy hét! Tervben van útógyártás is\, de az c
 sak később\, januárban. Úgyhogy rendeljetek hip-hop!\n\nFizetni a szok
 ásos számlára lehet. Ha nem tudod a számlaszámot\, akkor írj pü-t\,
  elküldöm. A közleménybe a Naptár és a Nickneved írd (pl: "Naptár 
 Zolee4444")\n\n 
CATEGORIES:Esemény
END:VEVENT
BEGIN:VTIMEZONE
TZID:Europe/Budapest
X-LIC-LOCATION:Europe/Budapest
BEGIN:STANDARD
DTSTART:20201025T020000
TZOFFSETFROM:+0200
TZOFFSETTO:+0100
TZNAME:CET
END:STANDARD
END:VTIMEZONE
END:VCALENDAR